BEGIN:VCALENDAR
VERSION:2.0
PRODID:-//Agri Limpopo - ECPv4.9.10//NONSGML v1.0//EN
CALSCALE:GREGORIAN
METHOD:PUBLISH
X-WR-CALNAME:Agri Limpopo
X-ORIGINAL-URL:https://limpopoagriculture.co.za/af
X-WR-CALDESC:Events for Agri Limpopo
BEGIN:VTIMEZONE
TZID:UTC
BEGIN:STANDARD
TZOFFSETFROM:+0000
TZOFFSETTO:+0000
TZNAME:UTC
DTSTART:20200101T000000
END:STANDARD
END:VTIMEZONE
BEGIN:VEVENT
DTSTART;TZID=UTC:20200421T080000
DTEND;TZID=UTC:20200421T170000
DTSTAMP:20260425T151659
CREATED:20191107T172021Z
LAST-MODIFIED:20191107T172021Z
UID:27591-1587456000-1587488400@limpopoagriculture.co.za
SUMMARY:Dagbestuur Vergadering
DESCRIPTION:Dagbestuur Vergadering \n
URL:https://limpopoagriculture.co.za/af/event/afrikaans-dagbestuur-vergadering/
CATEGORIES:Kalender
END:VEVENT
END:VCALENDAR