BEGIN:VCALENDAR
VERSION:2.0
PRODID:-//Agri Limpopo - ECPv4.9.10//NONSGML v1.0//EN
CALSCALE:GREGORIAN
METHOD:PUBLISH
X-WR-CALNAME:Agri Limpopo
X-ORIGINAL-URL:https://limpopoagriculture.co.za/af
X-WR-CALDESC:Events for Agri Limpopo
BEGIN:VTIMEZONE
TZID:UTC
BEGIN:STANDARD
TZOFFSETFROM:+0000
TZOFFSETTO:+0000
TZNAME:UTC
DTSTART:20200101T000000
END:STANDARD
END:VTIMEZONE
BEGIN:VEVENT
DTSTART;TZID=UTC:20200410T080000
DTEND;TZID=UTC:20200410T170000
DTSTAMP:20260425T182619
CREATED:20191107T171711Z
LAST-MODIFIED:20191107T171711Z
UID:27579-1586505600-1586538000@limpopoagriculture.co.za
SUMMARY:Goeie Vrydag
DESCRIPTION:Goeie Vrydag \n
URL:https://limpopoagriculture.co.za/af/event/afrikaans-goeie-vrydag/
CATEGORIES:Kalender
END:VEVENT
END:VCALENDAR