BEGIN:VCALENDAR
VERSION:2.0
PRODID:-//Agri Limpopo - ECPv4.9.10//NONSGML v1.0//EN
CALSCALE:GREGORIAN
METHOD:PUBLISH
X-WR-CALNAME:Agri Limpopo
X-ORIGINAL-URL:https://limpopoagriculture.co.za/af
X-WR-CALDESC:Events for Agri Limpopo
BEGIN:VTIMEZONE
TZID:UTC
BEGIN:STANDARD
TZOFFSETFROM:+0000
TZOFFSETTO:+0000
TZNAME:UTC
DTSTART:20200101T000000
END:STANDARD
END:VTIMEZONE
BEGIN:VEVENT
DTSTART;TZID=UTC:20200625T080000
DTEND;TZID=UTC:20200625T170000
DTSTAMP:20260423T071335
CREATED:20191107T173212Z
LAST-MODIFIED:20200204T171234Z
UID:27627-1593072000-1593104400@limpopoagriculture.co.za
SUMMARY:JOC Veiligheid Vergadering (JOC Polokwane) - admin@limag.co.za
DESCRIPTION:JOC Veiligheid\nVergadering (JOC\nPolokwane) –\nadmin@limag.co.za \n
URL:https://limpopoagriculture.co.za/af/event/afrikaans-landelike-veiligheid-12/
CATEGORIES:Kalender
END:VEVENT
END:VCALENDAR