BEGIN:VCALENDAR
VERSION:2.0
PRODID:-//Agri Limpopo - ECPv4.9.10//NONSGML v1.0//EN
CALSCALE:GREGORIAN
METHOD:PUBLISH
X-WR-CALNAME:Agri Limpopo
X-ORIGINAL-URL:https://limpopoagriculture.co.za/af
X-WR-CALDESC:Events for Agri Limpopo
BEGIN:VTIMEZONE
TZID:UTC
BEGIN:STANDARD
TZOFFSETFROM:+0000
TZOFFSETTO:+0000
TZNAME:UTC
DTSTART:20200101T000000
END:STANDARD
END:VTIMEZONE
BEGIN:VEVENT
DTSTART;TZID=UTC:20200420T090000
DTEND;TZID=UTC:20200420T170000
DTSTAMP:20260425T212100
CREATED:20191107T171932Z
LAST-MODIFIED:20200204T165735Z
UID:27587-1587373200-1587402000@limpopoagriculture.co.za
SUMMARY:Agri SA HUB (Tel) (Board Room\, Agri SA\, Inkwazi Office Park\, 1249 Embankment Road\,
DESCRIPTION:Agri SA HUB (Tel)\n(Board Room\, Agri\nSA\, Inkwazi Office\nPark\, 1249\nEmbankment Road\, \n
URL:https://limpopoagriculture.co.za/af/event/afrikaans-provinsiale-hub-2/
CATEGORIES:Kalender
END:VEVENT
END:VCALENDAR