BEGIN:VCALENDAR
VERSION:2.0
PRODID:-//Agri Limpopo - ECPv4.9.10//NONSGML v1.0//EN
CALSCALE:GREGORIAN
METHOD:PUBLISH
X-WR-CALNAME:Agri Limpopo
X-ORIGINAL-URL:https://limpopoagriculture.co.za/af
X-WR-CALDESC:Events for Agri Limpopo
BEGIN:VTIMEZONE
TZID:UTC
BEGIN:STANDARD
TZOFFSETFROM:+0000
TZOFFSETTO:+0000
TZNAME:UTC
DTSTART:20200101T000000
END:STANDARD
END:VTIMEZONE
BEGIN:VEVENT
DTSTART;TZID=UTC:20200219T090000
DTEND;TZID=UTC:20200219T170000
DTSTAMP:20260425T222955
CREATED:20200204T142446Z
LAST-MODIFIED:20200204T142516Z
UID:27796-1582102800-1582131600@limpopoagriculture.co.za
SUMMARY:Agri Letaba - Agri Limpopo Vergadering (Agri Letaba Kantoor - Raadsaal ) - Naomi - Agri Letaba
DESCRIPTION:Agri Letaba – Agri\nLimpopo Vergadering\n(Agri Letaba Kantoor\n– Raadsaal ) – Naomi\n– Agri Letaba \n
URL:https://limpopoagriculture.co.za/af/event/agri-letaba-agri-limpopo-vergadering-agri-letaba-kantoor-raadsaal-naomi-agri-letaba/
CATEGORIES:Kalender
END:VEVENT
END:VCALENDAR