BEGIN:VCALENDAR
VERSION:2.0
PRODID:-//Agri Limpopo - ECPv4.9.10//NONSGML v1.0//EN
CALSCALE:GREGORIAN
METHOD:PUBLISH
X-WR-CALNAME:Agri Limpopo
X-ORIGINAL-URL:https://limpopoagriculture.co.za/af
X-WR-CALDESC:Events for Agri Limpopo
BEGIN:VTIMEZONE
TZID:UTC
BEGIN:STANDARD
TZOFFSETFROM:+0000
TZOFFSETTO:+0000
TZNAME:UTC
DTSTART:20200101T000000
END:STANDARD
END:VTIMEZONE
BEGIN:VEVENT
DTSTART;TZID=UTC:20200722T090000
DTEND;TZID=UTC:20200722T170000
DTSTAMP:20260423T112006
CREATED:20200204T172058Z
LAST-MODIFIED:20200204T172108Z
UID:27851-1595408400-1595437200@limpopoagriculture.co.za
SUMMARY:Agri SA Alg Sakekamer (Agri SA\, block D\, Embankmentweg 1249\, Centurion) -
DESCRIPTION:Agri SA Alg\nSakekamer (Agri SA\,\nblock D\,\nEmbankmentweg\n1249\, Centurion) – \n
URL:https://limpopoagriculture.co.za/af/event/agri-sa-alg-sakekamer-agri-sa-block-d-embankmentweg-1249-centurion/
CATEGORIES:Kalender
END:VEVENT
END:VCALENDAR