BEGIN:VCALENDAR
VERSION:2.0
PRODID:-//Agri Limpopo - ECPv4.9.10//NONSGML v1.0//EN
CALSCALE:GREGORIAN
METHOD:PUBLISH
X-WR-CALNAME:Agri Limpopo
X-ORIGINAL-URL:https://limpopoagriculture.co.za/af
X-WR-CALDESC:Events for Agri Limpopo
BEGIN:VTIMEZONE
TZID:UTC
BEGIN:STANDARD
TZOFFSETFROM:+0000
TZOFFSETTO:+0000
TZNAME:UTC
DTSTART:20200101T000000
END:STANDARD
END:VTIMEZONE
BEGIN:VEVENT
DTSTART;TZID=UTC:20200310T080000
DTEND;TZID=UTC:20200310T170000
DTSTAMP:20260425T220843
CREATED:20200204T143432Z
LAST-MODIFIED:20200204T143620Z
UID:27810-1583827200-1583859600@limpopoagriculture.co.za
SUMMARY:Agri SA SVU Ekon & Handel (Conference Venue)
DESCRIPTION:Agri SA SVU Ekon\n& Handel\n(Conference Venue) \n
URL:https://limpopoagriculture.co.za/af/event/agri-sa-svu-ekon-handel-conference-venue/
CATEGORIES:Kalender
END:VEVENT
END:VCALENDAR