BEGIN:VCALENDAR
VERSION:2.0
PRODID:-//Agri Limpopo - ECPv4.9.10//NONSGML v1.0//EN
CALSCALE:GREGORIAN
METHOD:PUBLISH
X-WR-CALNAME:Agri Limpopo
X-ORIGINAL-URL:https://limpopoagriculture.co.za/af
X-WR-CALDESC:Events for Agri Limpopo
BEGIN:VTIMEZONE
TZID:UTC
BEGIN:STANDARD
TZOFFSETFROM:+0000
TZOFFSETTO:+0000
TZNAME:UTC
DTSTART:20200101T000000
END:STANDARD
END:VTIMEZONE
BEGIN:VEVENT
DTSTART;TZID=UTC:20201118T120000
DTEND;TZID=UTC:20201118T170000
DTSTAMP:20260423T154805
CREATED:20200207T154655Z
LAST-MODIFIED:20200207T154655Z
UID:27918-1605700800-1605718800@limpopoagriculture.co.za
SUMMARY:Agri SA: SvU Landelike Veiligheid
DESCRIPTION:Agri SA: SvU\nLandelike Veiligheid \n
URL:https://limpopoagriculture.co.za/af/event/agri-sa-svu-rural-safety/
CATEGORIES:Kalender
END:VEVENT
END:VCALENDAR