BEGIN:VCALENDAR
VERSION:2.0
PRODID:-//Agri Limpopo - ECPv4.9.10//NONSGML v1.0//EN
CALSCALE:GREGORIAN
METHOD:PUBLISH
X-WR-CALNAME:Agri Limpopo
X-ORIGINAL-URL:https://limpopoagriculture.co.za/af
X-WR-CALDESC:Events for Agri Limpopo
BEGIN:VTIMEZONE
TZID:UTC
BEGIN:STANDARD
TZOFFSETFROM:+0000
TZOFFSETTO:+0000
TZNAME:UTC
DTSTART:20200101T000000
END:STANDARD
END:VTIMEZONE
BEGIN:VEVENT
DTSTART;TZID=UTC:20200218T090000
DTEND;TZID=UTC:20200218T170000
DTSTAMP:20260425T232905
CREATED:20200204T142347Z
LAST-MODIFIED:20200204T142347Z
UID:27794-1582016400-1582045200@limpopoagriculture.co.za
SUMMARY:AR VERGADERING - 18 FEB 2020 (NG KERK OOS)
DESCRIPTION:AR VERGADERING\n– 18 FEB 2020 (NG\nKERK OOS) \n
URL:https://limpopoagriculture.co.za/af/event/ar-vergadering-18-feb-2020-ng-kerk-oos/
CATEGORIES:Kalender
END:VEVENT
END:VCALENDAR