BEGIN:VCALENDAR
VERSION:2.0
PRODID:-//Agri Limpopo - ECPv4.9.10//NONSGML v1.0//EN
CALSCALE:GREGORIAN
METHOD:PUBLISH
X-WR-CALNAME:Agri Limpopo
X-ORIGINAL-URL:https://limpopoagriculture.co.za/af
X-WR-CALDESC:Events for Agri Limpopo
BEGIN:VTIMEZONE
TZID:UTC
BEGIN:STANDARD
TZOFFSETFROM:+0000
TZOFFSETTO:+0000
TZNAME:UTC
DTSTART:20200101T000000
END:STANDARD
END:VTIMEZONE
BEGIN:VEVENT
DTSTART;TZID=UTC:20200924T090000
DTEND;TZID=UTC:20200924T170000
DTSTAMP:20260423T070839
CREATED:20200207T135133Z
LAST-MODIFIED:20200207T135133Z
UID:27879-1600938000-1600966800@limpopoagriculture.co.za
SUMMARY:JOC Veiligheid Vergadering (JOC Polokwane) - admin@limag.co.za
DESCRIPTION:JOC Veiligheid\nVergadering (JOC\nPolokwane) –\nadmin@limag.co.za \n
URL:https://limpopoagriculture.co.za/af/event/joc-safety-meeting-joc-polokwane-adminlimag-co-za/
CATEGORIES:Kalender
END:VEVENT
END:VCALENDAR