BEGIN:VCALENDAR
VERSION:2.0
PRODID:-//Agri Limpopo - ECPv4.9.10//NONSGML v1.0//EN
CALSCALE:GREGORIAN
METHOD:PUBLISH
X-WR-CALNAME:Agri Limpopo
X-ORIGINAL-URL:https://limpopoagriculture.co.za/af
X-WR-CALDESC:Events for Agri Limpopo
BEGIN:VTIMEZONE
TZID:UTC
BEGIN:STANDARD
TZOFFSETFROM:+0000
TZOFFSETTO:+0000
TZNAME:UTC
DTSTART:20200101T000000
END:STANDARD
END:VTIMEZONE
BEGIN:VEVENT
DTSTART;TZID=UTC:20201014T080000
DTEND;TZID=UTC:20201014T170000
DTSTAMP:20260423T125105
CREATED:20200207T140143Z
LAST-MODIFIED:20200207T140206Z
UID:27888-1602662400-1602694800@limpopoagriculture.co.za
SUMMARY:Ohrigstad Gholfdag (Ohrigstad) - Naomi - Agri Letaba
DESCRIPTION:Ohrigstad\nGholfdag (Ohrigstad)\n– Naomi – Agri Letaba \n
URL:https://limpopoagriculture.co.za/af/event/ohrigstad-gholfday-ohrigstad-naomi-agri-letaba/
CATEGORIES:Kalender
END:VEVENT
END:VCALENDAR