BEGIN:VCALENDAR
VERSION:2.0
PRODID:-//Agri Limpopo - ECPv4.9.10//NONSGML v1.0//EN
CALSCALE:GREGORIAN
METHOD:PUBLISH
X-WR-CALNAME:Agri Limpopo
X-ORIGINAL-URL:https://limpopoagriculture.co.za/af
X-WR-CALDESC:Events for Agri Limpopo
BEGIN:VTIMEZONE
TZID:UTC
BEGIN:STANDARD
TZOFFSETFROM:+0000
TZOFFSETTO:+0000
TZNAME:UTC
DTSTART:20200101T000000
END:STANDARD
END:VTIMEZONE
BEGIN:VEVENT
DTSTART;TZID=UTC:20201005T180000
DTEND;TZID=UTC:20201005T180000
DTSTAMP:20260423T212041
CREATED:20200207T135304Z
LAST-MODIFIED:20200207T135304Z
UID:27881-1601920800-1601920800@limpopoagriculture.co.za
SUMMARY:Springbokvlakte Vergadering (Boeresaal Settlers)
DESCRIPTION:Springbokvlakte\nVergadering\n(Boeresaal Settlers) \n
URL:https://limpopoagriculture.co.za/af/event/springbokvlakte-meeting-boeresaal-settlers/
CATEGORIES:Kalender
END:VEVENT
END:VCALENDAR