BEGIN:VCALENDAR
VERSION:2.0
PRODID:-//Agri Limpopo - ECPv4.9.10//NONSGML v1.0//EN
CALSCALE:GREGORIAN
METHOD:PUBLISH
X-WR-CALNAME:Agri Limpopo
X-ORIGINAL-URL:https://limpopoagriculture.co.za/af
X-WR-CALDESC:Events for Agri Limpopo
BEGIN:VTIMEZONE
TZID:UTC
BEGIN:STANDARD
TZOFFSETFROM:+0000
TZOFFSETTO:+0000
TZNAME:UTC
DTSTART:20200101T000000
END:STANDARD
END:VTIMEZONE
BEGIN:VEVENT
DTSTART;TZID=UTC:20200128T080000
DTEND;TZID=UTC:20200129T170000
DTSTAMP:20260425T232320
CREATED:20200127T141742Z
LAST-MODIFIED:20200127T141813Z
UID:27745-1580198400-1580317200@limpopoagriculture.co.za
SUMMARY:(English) Submission of Article 25 at the Parliament - Cape Town
DESCRIPTION:
URL:https://limpopoagriculture.co.za/af/event/submission-of-article-25-at-the-parliament-cape-town/
END:VEVENT
END:VCALENDAR