BEGIN:VCALENDAR
VERSION:2.0
PRODID:-//Agri Limpopo - ECPv4.9.10//NONSGML v1.0//EN
CALSCALE:GREGORIAN
METHOD:PUBLISH
X-WR-CALNAME:Agri Limpopo
X-ORIGINAL-URL:https://limpopoagriculture.co.za/af
X-WR-CALDESC:Events for Agri Limpopo
BEGIN:VTIMEZONE
TZID:UTC
BEGIN:STANDARD
TZOFFSETFROM:+0000
TZOFFSETTO:+0000
TZNAME:UTC
DTSTART:20200101T000000
END:STANDARD
END:VTIMEZONE
BEGIN:VEVENT
DTSTART;TZID=UTC:20200810T080000
DTEND;TZID=UTC:20200810T170000
DTSTAMP:20260423T071132
CREATED:20200207T134126Z
LAST-MODIFIED:20200207T134126Z
UID:27866-1597046400-1597078800@limpopoagriculture.co.za
SUMMARY:VROUEDAG VAKANSIE DAG
DESCRIPTION:VROUEDAG VAKANSIE\nDAG \n
URL:https://limpopoagriculture.co.za/af/event/womens-day-vacation-day/
CATEGORIES:Kalender
END:VEVENT
END:VCALENDAR