BEGIN:VCALENDAR
VERSION:2.0
PRODID:-//Agri Limpopo - ECPv4.9.10//NONSGML v1.0//EN
CALSCALE:GREGORIAN
METHOD:PUBLISH
X-WR-CALNAME:Agri Limpopo
X-ORIGINAL-URL:https://limpopoagriculture.co.za
X-WR-CALDESC:Events for Agri Limpopo
BEGIN:VTIMEZONE
TZID:UTC
BEGIN:STANDARD
TZOFFSETFROM:+0000
TZOFFSETTO:+0000
TZNAME:UTC
DTSTART:20200101T000000
END:STANDARD
END:VTIMEZONE
BEGIN:VEVENT
DTSTART;TZID=UTC:20200414T080000
DTEND;TZID=UTC:20200414T170000
DTSTAMP:20260425T105243
CREATED:20191107T171820Z
LAST-MODIFIED:20191107T171820Z
UID:27583-1586851200-1586883600@limpopoagriculture.co.za
SUMMARY:(Afrikaans) Agri Bosveldvergadering
DESCRIPTION:Sorry\, this entry is only available in English. \n
URL:https://limpopoagriculture.co.za/event/afrikaans-agri-bosveldvergadering-3/
END:VEVENT
END:VCALENDAR