BEGIN:VCALENDAR
VERSION:2.0
PRODID:-//Agri Limpopo - ECPv4.9.10//NONSGML v1.0//EN
CALSCALE:GREGORIAN
METHOD:PUBLISH
X-WR-CALNAME:Agri Limpopo
X-ORIGINAL-URL:https://limpopoagriculture.co.za
X-WR-CALDESC:Events for Agri Limpopo
BEGIN:VTIMEZONE
TZID:UTC
BEGIN:STANDARD
TZOFFSETFROM:+0000
TZOFFSETTO:+0000
TZNAME:UTC
DTSTART:20200101T000000
END:STANDARD
END:VTIMEZONE
BEGIN:VEVENT
DTSTART;TZID=UTC:20200609T090000
DTEND;TZID=UTC:20200609T170000
DTSTAMP:20260423T082802
CREATED:20191107T172908Z
LAST-MODIFIED:20200204T171015Z
UID:27617-1591693200-1591722000@limpopoagriculture.co.za
SUMMARY:Agri SA HUB (Tel) (Board Room\, Agri SA\, Inkwazi Office Park\, 1249 Embankment Road\,
DESCRIPTION:Agri SA HUB (Tel)\n(Board Room\, Agri\nSA\, Inkwazi Office\nPark\, 1249\nEmbankment Road\, \n
URL:https://limpopoagriculture.co.za/event/afrikaans-agri-bosveldvergadering-5/
CATEGORIES:Calendar
END:VEVENT
END:VCALENDAR