BEGIN:VCALENDAR
VERSION:2.0
PRODID:-//Agri Limpopo - ECPv4.9.10//NONSGML v1.0//EN
CALSCALE:GREGORIAN
METHOD:PUBLISH
X-WR-CALNAME:Agri Limpopo
X-ORIGINAL-URL:https://limpopoagriculture.co.za
X-WR-CALDESC:Events for Agri Limpopo
BEGIN:VTIMEZONE
TZID:UTC
BEGIN:STANDARD
TZOFFSETFROM:+0000
TZOFFSETTO:+0000
TZNAME:UTC
DTSTART:20200101T000000
END:STANDARD
END:VTIMEZONE
BEGIN:VEVENT
DTSTART;TZID=UTC:20200430T090000
DTEND;TZID=UTC:20200430T170000
DTSTAMP:20260426T014131
CREATED:20191107T172204Z
LAST-MODIFIED:20200204T165840Z
UID:27597-1588237200-1588266000@limpopoagriculture.co.za
SUMMARY:JOC Veiligheid Vergadering (JOC Polokwane) - admin@limag.co.za
DESCRIPTION:JOC Veiligheid\nVergadering (JOC\nPolokwane) –\nadmin@limag.co.za \n
URL:https://limpopoagriculture.co.za/event/afrikaans-landelike-veiligheid-8/
CATEGORIES:Calendar
END:VEVENT
END:VCALENDAR