BEGIN:VCALENDAR
VERSION:2.0
PRODID:-//Agri Limpopo - ECPv4.9.10//NONSGML v1.0//EN
CALSCALE:GREGORIAN
METHOD:PUBLISH
X-WR-CALNAME:Agri Limpopo
X-ORIGINAL-URL:https://limpopoagriculture.co.za
X-WR-CALDESC:Events for Agri Limpopo
BEGIN:VTIMEZONE
TZID:UTC
BEGIN:STANDARD
TZOFFSETFROM:+0000
TZOFFSETTO:+0000
TZNAME:UTC
DTSTART:20200101T000000
END:STANDARD
END:VTIMEZONE
BEGIN:VEVENT
DTSTART;TZID=UTC:20200127T090000
DTEND;TZID=UTC:20200127T170000
DTSTAMP:20260425T234050
CREATED:20191107T143945Z
LAST-MODIFIED:20200127T141348Z
UID:27537-1580115600-1580144400@limpopoagriculture.co.za
SUMMARY:Agri SA HUB (Tel) (Board Room\, Agri SA\, Inkwazi Office Park\, 1249 Embankment Road\,
DESCRIPTION:Sorry\, this entry is only available in English. \n
URL:https://limpopoagriculture.co.za/event/afrikaans-provinsiale-hub/
CATEGORIES:Calendar
END:VEVENT
END:VCALENDAR