BEGIN:VCALENDAR
VERSION:2.0
PRODID:-//Agri Limpopo - ECPv4.9.10//NONSGML v1.0//EN
CALSCALE:GREGORIAN
METHOD:PUBLISH
X-WR-CALNAME:Agri Limpopo
X-ORIGINAL-URL:https://limpopoagriculture.co.za
X-WR-CALDESC:Events for Agri Limpopo
BEGIN:VTIMEZONE
TZID:UTC
BEGIN:STANDARD
TZOFFSETFROM:+0000
TZOFFSETTO:+0000
TZNAME:UTC
DTSTART:20200101T000000
END:STANDARD
END:VTIMEZONE
BEGIN:VEVENT
DTSTART;TZID=UTC:20200715T080000
DTEND;TZID=UTC:20200717T170000
DTSTAMP:20260423T055324
CREATED:20200204T171512Z
LAST-MODIFIED:20200204T171803Z
UID:27845-1594800000-1595005200@limpopoagriculture.co.za
SUMMARY:AGBIZ 2020 Congress (Sun City) - admin@limag.co.za
DESCRIPTION:AGBIZ 2020 Congress (Sun City) – admin@limag.co.za \n
URL:https://limpopoagriculture.co.za/event/agbiz-2020-congress-sun-city-adminlimag-co-za/
CATEGORIES:Calendar
END:VEVENT
END:VCALENDAR