BEGIN:VCALENDAR
VERSION:2.0
PRODID:-//Agri Limpopo - ECPv4.9.10//NONSGML v1.0//EN
CALSCALE:GREGORIAN
METHOD:PUBLISH
X-WR-CALNAME:Agri Limpopo
X-ORIGINAL-URL:https://limpopoagriculture.co.za
X-WR-CALDESC:Events for Agri Limpopo
BEGIN:VTIMEZONE
TZID:UTC
BEGIN:STANDARD
TZOFFSETFROM:+0000
TZOFFSETTO:+0000
TZNAME:UTC
DTSTART:20200101T000000
END:STANDARD
END:VTIMEZONE
BEGIN:VEVENT
DTSTART;TZID=UTC:20201020T080000
DTEND;TZID=UTC:20201020T170000
DTSTAMP:20260423T140527
CREATED:20200207T140446Z
LAST-MODIFIED:20200207T140446Z
UID:27891-1603180800-1603213200@limpopoagriculture.co.za
SUMMARY:Agri Limpopo Finance Committee (NG Church East)
DESCRIPTION:Agri Limpopo\nFinance Committee\n(NG Church East)\n
URL:https://limpopoagriculture.co.za/event/agri-limpopo-finance-committee-ng-church-east/
CATEGORIES:Calendar
END:VEVENT
END:VCALENDAR