BEGIN:VCALENDAR
VERSION:2.0
PRODID:-//Agri Limpopo - ECPv4.9.10//NONSGML v1.0//EN
CALSCALE:GREGORIAN
METHOD:PUBLISH
X-WR-CALNAME:Agri Limpopo
X-ORIGINAL-URL:https://limpopoagriculture.co.za
X-WR-CALDESC:Events for Agri Limpopo
BEGIN:VTIMEZONE
TZID:UTC
BEGIN:STANDARD
TZOFFSETFROM:+0000
TZOFFSETTO:+0000
TZNAME:UTC
DTSTART:20200101T000000
END:STANDARD
END:VTIMEZONE
BEGIN:VEVENT
DTSTART;TZID=UTC:20201007T090000
DTEND;TZID=UTC:20201007T170000
DTSTAMP:20260423T070228
CREATED:20200207T135345Z
LAST-MODIFIED:20200207T135356Z
UID:27883-1602061200-1602090000@limpopoagriculture.co.za
SUMMARY:Agri SA Alg Sakekamer verg (Agri SA\, blok D\, Embankmentweg 1249\, Centurion)
DESCRIPTION:Agri SA Alg\nSakekamer verg (Agri\nSA\, blok D\,\nEmbankmentweg\n1249\, Centurion) \n
URL:https://limpopoagriculture.co.za/event/agri-sa-alg-sakekamer-verg-agri-sa-blok-d-embankmentweg-1249-centurion/
CATEGORIES:Calendar
END:VEVENT
END:VCALENDAR