BEGIN:VCALENDAR
VERSION:2.0
PRODID:-//Agri Limpopo - ECPv4.9.10//NONSGML v1.0//EN
CALSCALE:GREGORIAN
METHOD:PUBLISH
X-WR-CALNAME:Agri Limpopo
X-ORIGINAL-URL:https://limpopoagriculture.co.za
X-WR-CALDESC:Events for Agri Limpopo
BEGIN:VTIMEZONE
TZID:UTC
BEGIN:STANDARD
TZOFFSETFROM:+0000
TZOFFSETTO:+0000
TZNAME:UTC
DTSTART:20200101T000000
END:STANDARD
END:VTIMEZONE
BEGIN:VEVENT
DTSTART;TZID=UTC:20201008T080000
DTEND;TZID=UTC:20201009T170000
DTSTAMP:20260423T095448
CREATED:20200207T135447Z
LAST-MODIFIED:20200207T140342Z
UID:27886-1602144000-1602262800@limpopoagriculture.co.za
SUMMARY:Agri SA: Congress
DESCRIPTION:Agri SA: Congress \n
URL:https://limpopoagriculture.co.za/event/agri-sa-congress/
CATEGORIES:Calendar
END:VEVENT
END:VCALENDAR