BEGIN:VCALENDAR
VERSION:2.0
PRODID:-//Agri Limpopo - ECPv4.9.10//NONSGML v1.0//EN
CALSCALE:GREGORIAN
METHOD:PUBLISH
X-WR-CALNAME:Agri Limpopo
X-ORIGINAL-URL:https://limpopoagriculture.co.za
X-WR-CALDESC:Events for Agri Limpopo
BEGIN:VTIMEZONE
TZID:UTC
BEGIN:STANDARD
TZOFFSETFROM:+0000
TZOFFSETTO:+0000
TZNAME:UTC
DTSTART:20200101T000000
END:STANDARD
END:VTIMEZONE
BEGIN:VEVENT
DTSTART;TZID=UTC:20200914T120000
DTEND;TZID=UTC:20200914T170000
DTSTAMP:20260423T095540
CREATED:20200207T135019Z
LAST-MODIFIED:20200207T135050Z
UID:27877-1600084800-1600102800@limpopoagriculture.co.za
SUMMARY:Agri SA: SvU Grond
DESCRIPTION:Agri SA: SvU\nGrond \n
URL:https://limpopoagriculture.co.za/event/agri-sa-svu-grond/
CATEGORIES:Calendar
END:VEVENT
END:VCALENDAR