BEGIN:VCALENDAR
VERSION:2.0
PRODID:-//Agri Limpopo - ECPv4.9.10//NONSGML v1.0//EN
CALSCALE:GREGORIAN
METHOD:PUBLISH
X-WR-CALNAME:Agri Limpopo
X-ORIGINAL-URL:https://limpopoagriculture.co.za
X-WR-CALDESC:Events for Agri Limpopo
BEGIN:VTIMEZONE
TZID:UTC
BEGIN:STANDARD
TZOFFSETFROM:+0000
TZOFFSETTO:+0000
TZNAME:UTC
DTSTART:20200101T000000
END:STANDARD
END:VTIMEZONE
BEGIN:VEVENT
DTSTART;TZID=UTC:20200310T113000
DTEND;TZID=UTC:20200310T170000
DTSTAMP:20260425T190946
CREATED:20200204T143715Z
LAST-MODIFIED:20200204T143800Z
UID:27813-1583839800-1583859600@limpopoagriculture.co.za
SUMMARY:Agri SA SVU Nat Hulp (Conference)
DESCRIPTION:Agri SA SVU Nat Hulp (Conference) \n
URL:https://limpopoagriculture.co.za/event/agri-sa-svu-nat-hulp-conference/
CATEGORIES:Calendar
END:VEVENT
END:VCALENDAR