BEGIN:VCALENDAR
VERSION:2.0
PRODID:-//Agri Limpopo - ECPv4.9.10//NONSGML v1.0//EN
CALSCALE:GREGORIAN
METHOD:PUBLISH
X-WR-CALNAME:Agri Limpopo
X-ORIGINAL-URL:https://limpopoagriculture.co.za
X-WR-CALDESC:Events for Agri Limpopo
BEGIN:VTIMEZONE
TZID:UTC
BEGIN:STANDARD
TZOFFSETFROM:+0000
TZOFFSETTO:+0000
TZNAME:UTC
DTSTART:20200101T000000
END:STANDARD
END:VTIMEZONE
BEGIN:VEVENT
DTSTART;TZID=UTC:20200312T080000
DTEND;TZID=UTC:20200312T170000
DTSTAMP:20260425T162006
CREATED:20200204T144046Z
LAST-MODIFIED:20200204T144115Z
UID:27817-1584000000-1584032400@limpopoagriculture.co.za
SUMMARY:Agri Sa Training Sessie (Agri SA HUB Training op Corporate Governance)
DESCRIPTION:Agri Sa Training\nSessie (Agri SA HUB\nTraining op\nCorporate\nGovernance) \n
URL:https://limpopoagriculture.co.za/event/agri-sa-training-sessie-agri-sa-hub-training-op-corporate-governance/
CATEGORIES:Calendar
END:VEVENT
END:VCALENDAR