BEGIN:VCALENDAR
VERSION:2.0
PRODID:-//Agri Limpopo - ECPv4.9.10//NONSGML v1.0//EN
CALSCALE:GREGORIAN
METHOD:PUBLISH
X-WR-CALNAME:Agri Limpopo
X-ORIGINAL-URL:https://limpopoagriculture.co.za
X-WR-CALDESC:Events for Agri Limpopo
BEGIN:VTIMEZONE
TZID:UTC
BEGIN:STANDARD
TZOFFSETFROM:+0000
TZOFFSETTO:+0000
TZNAME:UTC
DTSTART:20200101T000000
END:STANDARD
END:VTIMEZONE
BEGIN:VEVENT
DTSTART;TZID=UTC:20200204T140000
DTEND;TZID=UTC:20200204T150000
DTSTAMP:20260426T022853
CREATED:20200204T135859Z
LAST-MODIFIED:20200204T140545Z
UID:27769-1580824800-1580828400@limpopoagriculture.co.za
SUMMARY:Collect documents for Gravelotte and deliver to Gravelotte
DESCRIPTION:Collect documents for Gravelotte and deliver to Gravelotte \n
URL:https://limpopoagriculture.co.za/event/agriculture-task-team-meeting-premier-mec/
CATEGORIES:Calendar
END:VEVENT
END:VCALENDAR