BEGIN:VCALENDAR
VERSION:2.0
PRODID:-//Agri Limpopo - ECPv4.9.10//NONSGML v1.0//EN
CALSCALE:GREGORIAN
METHOD:PUBLISH
X-WR-CALNAME:Agri Limpopo
X-ORIGINAL-URL:https://limpopoagriculture.co.za
X-WR-CALDESC:Events for Agri Limpopo
BEGIN:VTIMEZONE
TZID:UTC
BEGIN:STANDARD
TZOFFSETFROM:+0000
TZOFFSETTO:+0000
TZNAME:UTC
DTSTART:20200101T000000
END:STANDARD
END:VTIMEZONE
BEGIN:VEVENT
DTSTART;TZID=UTC:20200505T090000
DTEND;TZID=UTC:20200505T170000
DTSTAMP:20260423T192859
CREATED:20200204T170055Z
LAST-MODIFIED:20200204T170055Z
UID:27832-1588669200-1588698000@limpopoagriculture.co.za
SUMMARY:AR Vergadering - Agri Limpopo (NG Kerk Oos\, Polokwane) - admin@limag.co.za
DESCRIPTION:AR Vergadering –\nAgri Limpopo (NG\nKerk Oos\, Polokwane)\n– admin@limag.co.za \n
URL:https://limpopoagriculture.co.za/event/ar-vergadering-agri-limpopo-ng-kerk-oos-polokwane-adminlimag-co-za/
CATEGORIES:Calendar
END:VEVENT
END:VCALENDAR