BEGIN:VCALENDAR
VERSION:2.0
PRODID:-//Agri Limpopo - ECPv4.9.10//NONSGML v1.0//EN
CALSCALE:GREGORIAN
METHOD:PUBLISH
X-WR-CALNAME:Agri Limpopo
X-ORIGINAL-URL:https://limpopoagriculture.co.za
X-WR-CALDESC:Events for Agri Limpopo
BEGIN:VTIMEZONE
TZID:UTC
BEGIN:STANDARD
TZOFFSETFROM:+0000
TZOFFSETTO:+0000
TZNAME:UTC
DTSTART:20200101T000000
END:STANDARD
END:VTIMEZONE
BEGIN:VEVENT
DTSTART;TZID=UTC:20200721T090000
DTEND;TZID=UTC:20200721T170000
DTSTAMP:20260423T071214
CREATED:20200204T171958Z
LAST-MODIFIED:20200204T171958Z
UID:27849-1595322000-1595350800@limpopoagriculture.co.za
SUMMARY:Dagbestuur Vergadering - Agri
DESCRIPTION:Dagbestuur\nVergadering – Agri \n
URL:https://limpopoagriculture.co.za/event/dagbestuur-vergadering-agri-2/
CATEGORIES:Calendar
END:VEVENT
END:VCALENDAR