BEGIN:VCALENDAR
VERSION:2.0
PRODID:-//Agri Limpopo - ECPv4.9.10//NONSGML v1.0//EN
CALSCALE:GREGORIAN
METHOD:PUBLISH
X-WR-CALNAME:Agri Limpopo
X-ORIGINAL-URL:https://limpopoagriculture.co.za
X-WR-CALDESC:Events for Agri Limpopo
BEGIN:VTIMEZONE
TZID:UTC
BEGIN:STANDARD
TZOFFSETFROM:+0000
TZOFFSETTO:+0000
TZNAME:UTC
DTSTART:20200101T000000
END:STANDARD
END:VTIMEZONE
BEGIN:VEVENT
DTSTART;TZID=UTC:20201020T090000
DTEND;TZID=UTC:20201020T170000
DTSTAMP:20260423T083422
CREATED:20200207T140545Z
LAST-MODIFIED:20200207T140545Z
UID:27893-1603184400-1603213200@limpopoagriculture.co.za
SUMMARY:Day management Meeting (NG Church)
DESCRIPTION:Day management Meeting (NG Church) \n
URL:https://limpopoagriculture.co.za/event/day-management-meeting-ng-church/
CATEGORIES:Calendar
END:VEVENT
END:VCALENDAR