BEGIN:VCALENDAR
VERSION:2.0
PRODID:-//Agri Limpopo - ECPv4.9.10//NONSGML v1.0//EN
CALSCALE:GREGORIAN
METHOD:PUBLISH
X-WR-CALNAME:Agri Limpopo
X-ORIGINAL-URL:https://limpopoagriculture.co.za
X-WR-CALDESC:Events for Agri Limpopo
BEGIN:VTIMEZONE
TZID:UTC
BEGIN:STANDARD
TZOFFSETFROM:+0000
TZOFFSETTO:+0000
TZNAME:UTC
DTSTART:20200101T000000
END:STANDARD
END:VTIMEZONE
BEGIN:VEVENT
DTSTART;TZID=UTC:20200730T090000
DTEND;TZID=UTC:20200730T170000
DTSTAMP:20260423T053725
CREATED:20200204T172242Z
LAST-MODIFIED:20200204T172252Z
UID:27855-1596099600-1596128400@limpopoagriculture.co.za
SUMMARY:JOC Veiligheid Vergadering (JOC Polokwane) - admin@limag.co.za
DESCRIPTION:JOC Veiligheid\nVergadering (JOC\nPolokwane) –\nadmin@limag.co.za \n
URL:https://limpopoagriculture.co.za/event/joc-veiligheid-vergadering-joc-polokwane-adminlimag-co-za-3/
CATEGORIES:Calendar
END:VEVENT
END:VCALENDAR