BEGIN:VCALENDAR
VERSION:2.0
PRODID:-//Agri Limpopo - ECPv4.9.10//NONSGML v1.0//EN
CALSCALE:GREGORIAN
METHOD:PUBLISH
X-WR-CALNAME:Agri Limpopo
X-ORIGINAL-URL:https://limpopoagriculture.co.za
X-WR-CALDESC:Events for Agri Limpopo
BEGIN:VTIMEZONE
TZID:UTC
BEGIN:STANDARD
TZOFFSETFROM:+0000
TZOFFSETTO:+0000
TZNAME:UTC
DTSTART:20200101T000000
END:STANDARD
END:VTIMEZONE
BEGIN:VEVENT
DTSTART;TZID=UTC:20200227T120000
DTEND;TZID=UTC:20200227T170000
DTSTAMP:20260425T191149
CREATED:20200204T142822Z
LAST-MODIFIED:20200204T142841Z
UID:27802-1582804800-1582822800@limpopoagriculture.co.za
SUMMARY:Moringa Out growers project SC
DESCRIPTION:Moringa Out\ngrowers project SC \n
URL:https://limpopoagriculture.co.za/event/moringa-out-growers-project-sc/
CATEGORIES:Calendar
END:VEVENT
END:VCALENDAR