BEGIN:VCALENDAR
VERSION:2.0
PRODID:-//Agri Limpopo - ECPv4.9.10//NONSGML v1.0//EN
CALSCALE:GREGORIAN
METHOD:PUBLISH
X-WR-CALNAME:Agri Limpopo
X-ORIGINAL-URL:https://limpopoagriculture.co.za
X-WR-CALDESC:Events for Agri Limpopo
BEGIN:VTIMEZONE
TZID:UTC
BEGIN:STANDARD
TZOFFSETFROM:+0000
TZOFFSETTO:+0000
TZNAME:UTC
DTSTART:20200101T000000
END:STANDARD
END:VTIMEZONE
BEGIN:VEVENT
DTSTART;TZID=UTC:20200225T170000
DTEND;TZID=UTC:20200225T200000
DTSTAMP:20260426T024132
CREATED:20200204T142604Z
LAST-MODIFIED:20200204T142604Z
UID:27798-1582650000-1582660800@limpopoagriculture.co.za
SUMMARY:Nzhelele BV Vergadering (Nzhelele BV Vergadering)
DESCRIPTION:Nzhelele BV\nVergadering\n(Nzhelele BV\nVergadering) \n
URL:https://limpopoagriculture.co.za/event/nzhelele-bv-vergadering-nzhelele-bv-vergadering/
CATEGORIES:Calendar
END:VEVENT
END:VCALENDAR