BEGIN:VCALENDAR
VERSION:2.0
PRODID:-//Agri Limpopo - ECPv4.9.10//NONSGML v1.0//EN
CALSCALE:GREGORIAN
METHOD:PUBLISH
X-WR-CALNAME:Agri Limpopo
X-ORIGINAL-URL:https://limpopoagriculture.co.za
X-WR-CALDESC:Events for Agri Limpopo
BEGIN:VTIMEZONE
TZID:UTC
BEGIN:STANDARD
TZOFFSETFROM:+0000
TZOFFSETTO:+0000
TZNAME:UTC
DTSTART:20200101T000000
END:STANDARD
END:VTIMEZONE
BEGIN:VEVENT
DTSTART;TZID=UTC:20200907T180000
DTEND;TZID=UTC:20200907T180000
DTSTAMP:20260423T095402
CREATED:20200207T134926Z
LAST-MODIFIED:20200207T134926Z
UID:27875-1599501600-1599501600@limpopoagriculture.co.za
SUMMARY:Springbokvlakte Meeting
DESCRIPTION:Springbokvlakte Meeting \n
URL:https://limpopoagriculture.co.za/event/springbokvlakte-meeting/
CATEGORIES:Calendar
END:VEVENT
END:VCALENDAR