BEGIN:VCALENDAR
VERSION:2.0
PRODID:-//Agri Limpopo - ECPv4.9.10//NONSGML v1.0//EN
CALSCALE:GREGORIAN
METHOD:PUBLISH
X-WR-CALNAME:Agri Limpopo
X-ORIGINAL-URL:https://limpopoagriculture.co.za
X-WR-CALDESC:Events for Agri Limpopo
BEGIN:VTIMEZONE
TZID:UTC
BEGIN:STANDARD
TZOFFSETFROM:+0000
TZOFFSETTO:+0000
TZNAME:UTC
DTSTART:20200101T000000
END:STANDARD
END:VTIMEZONE
BEGIN:VEVENT
DTSTART;TZID=UTC:20200302T180000
DTEND;TZID=UTC:20200302T200000
DTSTAMP:20260426T011248
CREATED:20200204T143040Z
LAST-MODIFIED:20200204T143040Z
UID:27804-1583172000-1583179200@limpopoagriculture.co.za
SUMMARY:Springbokvlakte Vergadering (Boeresaal - Settlers) - Naomi - Agri Letaba
DESCRIPTION:Springbokvlakte\nVergadering\n(Boeresaal – Settlers)\n– Naomi – Agri Letaba \n
URL:https://limpopoagriculture.co.za/event/springbokvlakte-vergadering-boeresaal-settlers-naomi-agri-letaba/
CATEGORIES:Calendar
END:VEVENT
END:VCALENDAR