BEGIN:VCALENDAR
VERSION:2.0
PRODID:-//Agri Limpopo - ECPv4.9.10//NONSGML v1.0//EN
CALSCALE:GREGORIAN
METHOD:PUBLISH
X-WR-CALNAME:Agri Limpopo
X-ORIGINAL-URL:https://limpopoagriculture.co.za
X-WR-CALDESC:Events for Agri Limpopo
BEGIN:VTIMEZONE
TZID:UTC
BEGIN:STANDARD
TZOFFSETFROM:+0000
TZOFFSETTO:+0000
TZNAME:UTC
DTSTART:20200101T000000
END:STANDARD
END:VTIMEZONE
BEGIN:VEVENT
DTSTART;TZID=UTC:20200506T080000
DTEND;TZID=UTC:20200508T170000
DTSTAMP:20260423T205129
CREATED:20200204T170221Z
LAST-MODIFIED:20200204T170221Z
UID:27834-1588752000-1588957200@limpopoagriculture.co.za
SUMMARY:Vroue Landbou Unie Kongres Weesgerus (Weesgerus\, Modimolle
DESCRIPTION:Vroue Landbou Unie Kongres Weesgerus (Weesgerus\, Modimolle \n
URL:https://limpopoagriculture.co.za/event/vroue-landbou-unie-kongres-weesgerus-weesgerus-modimolle/
CATEGORIES:Calendar
END:VEVENT
END:VCALENDAR